BEGIN:VCALENDAR
VERSION:2.0
PRODID:-//Plone.org//NONSGML plone.app.event//EN
X-WR-TIMEZONE:America/Sao_Paulo
BEGIN:VEVENT
SUMMARY:Seminário PET: Modelos Lineares Generalizados Duplos Para Variáv
 eis Respostas Contínuas - Palestrante: Victor Vinicius Fernandes (Program
 a de Pós-Graduação Interinstitucional em Estatística UFSCar/USP)
DTSTART;TZID=America/Sao_Paulo;VALUE=DATE-TIME:20171207T150000
DTEND;TZID=America/Sao_Paulo;VALUE=DATE-TIME:20171207T170000
DTSTAMP;VALUE=DATE-TIME:20260420T142502Z
UID:449bbe2a5af740139182df9a6bce55a9@www.des.ufscar.br:8000
CATEGORIES:Agenda
LOCATION:Departamento de Estatística - UFSCar
URL:https://www.des.ufscar.br/agenda/seminario-pet-modelos-lineares-genera
 lizados-duplos-para-variaveis-respostas-continuas
END:VEVENT
BEGIN:VTIMEZONE
TZID:America/Sao_Paulo
X-LIC-LOCATION:America/Sao_Paulo
BEGIN:DAYLIGHT
DTSTART;VALUE=DATE-TIME:20171015T010000
TZNAME:-02
TZOFFSETFROM:-0300
TZOFFSETTO:-0200
END:DAYLIGHT
END:VTIMEZONE
END:VCALENDAR
